BEGIN:VCALENDAR
VERSION:2.0
PRODID:-//WV Office of Miners&#039; Health Safety and Training - ECPv6.15.17.1//NONSGML v1.0//EN
CALSCALE:GREGORIAN
METHOD:PUBLISH
X-WR-CALNAME:WV Office of Miners&#039; Health Safety and Training
X-ORIGINAL-URL:https://minesafety.wv.gov
X-WR-CALDESC:Events for WV Office of Miners&#039; Health Safety and Training
REFRESH-INTERVAL;VALUE=DURATION:PT1H
X-Robots-Tag:noindex
X-PUBLISHED-TTL:PT1H
BEGIN:VTIMEZONE
TZID:UTC
BEGIN:STANDARD
TZOFFSETFROM:+0000
TZOFFSETTO:+0000
TZNAME:UTC
DTSTART:20200101T000000
END:STANDARD
END:VTIMEZONE
BEGIN:VEVENT
DTSTART;TZID=UTC:20260216T080000
DTEND;TZID=UTC:20260216T170000
DTSTAMP:20260425T160630
CREATED:20201221T151341Z
LAST-MODIFIED:20230314T194454Z
UID:10000566-1771228800-1771261200@minesafety.wv.gov
SUMMARY:President's Day
DESCRIPTION:
URL:https://minesafety.wv.gov/employee-events/presidents-day/2026-02-16/
CATEGORIES:Holiday
END:VEVENT
BEGIN:VEVENT
DTSTART;TZID=UTC:20250217T080000
DTEND;TZID=UTC:20250217T170000
DTSTAMP:20260425T160630
CREATED:20201221T151341Z
LAST-MODIFIED:20230314T194454Z
UID:10000565-1739779200-1739811600@minesafety.wv.gov
SUMMARY:President's Day
DESCRIPTION:
URL:https://minesafety.wv.gov/employee-events/presidents-day/2025-02-17/
CATEGORIES:Holiday
END:VEVENT
BEGIN:VEVENT
DTSTART;TZID=UTC:20240219T080000
DTEND;TZID=UTC:20240219T170000
DTSTAMP:20260425T160630
CREATED:20201221T151341Z
LAST-MODIFIED:20230314T194454Z
UID:10000564-1708329600-1708362000@minesafety.wv.gov
SUMMARY:President's Day
DESCRIPTION:
URL:https://minesafety.wv.gov/employee-events/presidents-day/2024-02-19/
CATEGORIES:Holiday
END:VEVENT
BEGIN:VEVENT
DTSTART;TZID=UTC:20230220T080000
DTEND;TZID=UTC:20230220T170000
DTSTAMP:20260425T160630
CREATED:20201221T151341Z
LAST-MODIFIED:20230314T194454Z
UID:10000563-1676880000-1676912400@minesafety.wv.gov
SUMMARY:President's Day
DESCRIPTION:
URL:https://minesafety.wv.gov/employee-events/presidents-day/2023-02-20/
CATEGORIES:Holiday
END:VEVENT
BEGIN:VEVENT
DTSTART;TZID=UTC:20220221T080000
DTEND;TZID=UTC:20220221T170000
DTSTAMP:20260425T160630
CREATED:20201221T151341Z
LAST-MODIFIED:20230314T194454Z
UID:10000562-1645430400-1645462800@minesafety.wv.gov
SUMMARY:President's Day
DESCRIPTION:
URL:https://minesafety.wv.gov/employee-events/presidents-day/2022-02-21/
CATEGORIES:Holiday
END:VEVENT
BEGIN:VEVENT
DTSTART;TZID=UTC:20210215T080000
DTEND;TZID=UTC:20210215T170000
DTSTAMP:20260425T160630
CREATED:20201221T151341Z
LAST-MODIFIED:20230314T194454Z
UID:10000561-1613376000-1613408400@minesafety.wv.gov
SUMMARY:President's Day
DESCRIPTION:
URL:https://minesafety.wv.gov/employee-events/presidents-day/2021-02-15/
CATEGORIES:Holiday
END:VEVENT
END:VCALENDAR