BEGIN:VCALENDAR
VERSION:2.0
PRODID:-//WV Office of Miners&#039; Health Safety and Training - ECPv5.8.1//NONSGML v1.0//EN
CALSCALE:GREGORIAN
METHOD:PUBLISH
X-WR-CALNAME:WV Office of Miners&#039; Health Safety and Training
X-ORIGINAL-URL:https://minesafety.wv.gov
X-WR-CALDESC:Events for WV Office of Miners&#039; Health Safety and Training
BEGIN:VTIMEZONE
TZID:UTC
BEGIN:STANDARD
TZOFFSETFROM:+0000
TZOFFSETTO:+0000
TZNAME:UTC
DTSTART:20210101T000000
END:STANDARD
END:VTIMEZONE
BEGIN:VEVENT
DTSTART;TZID=UTC:20210910T080000
DTEND;TZID=UTC:20210910T170000
DTSTAMP:20210809T133953
CREATED:20201221T153916Z
LAST-MODIFIED:20201221T153916Z
UID:2119-1631260800-1631293200@minesafety.wv.gov
SUMMARY:Pay Day
DESCRIPTION:
URL:https://minesafety.wv.gov/employee-events/pay-day/2021-09-10/
END:VEVENT
BEGIN:VEVENT
DTSTART;TZID=UTC:20210924T080000
DTEND;TZID=UTC:20210924T170000
DTSTAMP:20210809T133953
CREATED:20201221T153916Z
LAST-MODIFIED:20201221T153916Z
UID:2120-1632470400-1632502800@minesafety.wv.gov
SUMMARY:Pay Day
DESCRIPTION:
URL:https://minesafety.wv.gov/employee-events/pay-day/2021-09-24/
END:VEVENT
BEGIN:VEVENT
DTSTART;TZID=UTC:20211008T080000
DTEND;TZID=UTC:20211008T170000
DTSTAMP:20210809T133953
CREATED:20201221T153916Z
LAST-MODIFIED:20201221T153916Z
UID:2121-1633680000-1633712400@minesafety.wv.gov
SUMMARY:Pay Day
DESCRIPTION:
URL:https://minesafety.wv.gov/employee-events/pay-day/2021-10-08/
END:VEVENT
BEGIN:VEVENT
DTSTART;TZID=UTC:20211011T080000
DTEND;TZID=UTC:20211011T170000
DTSTAMP:20210809T133953
CREATED:20201221T153154Z
LAST-MODIFIED:20201221T153156Z
UID:2092-1633939200-1633971600@minesafety.wv.gov
SUMMARY:Columbus Day
DESCRIPTION:
URL:https://minesafety.wv.gov/employee-events/columbus-day/2021-10-11/
END:VEVENT
BEGIN:VEVENT
DTSTART;TZID=UTC:20211022T080000
DTEND;TZID=UTC:20211022T170000
DTSTAMP:20210809T133953
CREATED:20201221T153916Z
LAST-MODIFIED:20201221T153916Z
UID:2122-1634889600-1634922000@minesafety.wv.gov
SUMMARY:Pay Day
DESCRIPTION:
URL:https://minesafety.wv.gov/employee-events/pay-day/2021-10-22/
END:VEVENT
BEGIN:VEVENT
DTSTART;TZID=UTC:20211105T080000
DTEND;TZID=UTC:20211105T170000
DTSTAMP:20210809T133953
CREATED:20201221T153916Z
LAST-MODIFIED:20201221T153916Z
UID:2123-1636099200-1636131600@minesafety.wv.gov
SUMMARY:Pay Day
DESCRIPTION:
URL:https://minesafety.wv.gov/employee-events/pay-day/2021-11-05/
END:VEVENT
BEGIN:VEVENT
DTSTART;TZID=UTC:20211111T080000
DTEND;TZID=UTC:20211111T170000
DTSTAMP:20210809T133953
CREATED:20201221T153246Z
LAST-MODIFIED:20201221T153246Z
UID:2094-1636617600-1636650000@minesafety.wv.gov
SUMMARY:Veteran's Day
DESCRIPTION:
URL:https://minesafety.wv.gov/employee-events/veterans-day/2021-11-11/
END:VEVENT
BEGIN:VEVENT
DTSTART;TZID=UTC:20211119T080000
DTEND;TZID=UTC:20211119T170000
DTSTAMP:20210809T133953
CREATED:20201221T153916Z
LAST-MODIFIED:20201221T153916Z
UID:2124-1637308800-1637341200@minesafety.wv.gov
SUMMARY:Pay Day
DESCRIPTION:
URL:https://minesafety.wv.gov/employee-events/pay-day/2021-11-19/
END:VEVENT
BEGIN:VEVENT
DTSTART;TZID=UTC:20211125T080000
DTEND;TZID=UTC:20211125T170000
DTSTAMP:20210809T133953
CREATED:20201221T153334Z
LAST-MODIFIED:20201221T153335Z
UID:2096-1637827200-1637859600@minesafety.wv.gov
SUMMARY:Thanksgiving
DESCRIPTION:
URL:https://minesafety.wv.gov/employee-events/thanksgiving/2021-11-25/
END:VEVENT
BEGIN:VEVENT
DTSTART;TZID=UTC:20211203T080000
DTEND;TZID=UTC:20211203T170000
DTSTAMP:20210809T133953
CREATED:20201221T153916Z
LAST-MODIFIED:20201221T153916Z
UID:2125-1638518400-1638550800@minesafety.wv.gov
SUMMARY:Pay Day
DESCRIPTION:
URL:https://minesafety.wv.gov/employee-events/pay-day/2021-12-03/
END:VEVENT
BEGIN:VEVENT
DTSTART;TZID=UTC:20211224T080000
DTEND;TZID=UTC:20211224T170000
DTSTAMP:20210809T133953
CREATED:20201221T153429Z
LAST-MODIFIED:20201221T153429Z
UID:2099-1640332800-1640365200@minesafety.wv.gov
SUMMARY:Christmas Eve
DESCRIPTION:
URL:https://minesafety.wv.gov/employee-events/christmas-eve/2021-12-24/
END:VEVENT
BEGIN:VEVENT
DTSTART;TZID=UTC:20211225T080000
DTEND;TZID=UTC:20211225T170000
DTSTAMP:20210809T133953
CREATED:20201221T153530Z
LAST-MODIFIED:20201221T153530Z
UID:2101-1640419200-1640451600@minesafety.wv.gov
SUMMARY:Christmas Day
DESCRIPTION:
URL:https://minesafety.wv.gov/employee-events/christmas-day/2021-12-25/
END:VEVENT
BEGIN:VEVENT
DTSTART;TZID=UTC:20220101T080000
DTEND;TZID=UTC:20220101T170000
DTSTAMP:20210809T133953
CREATED:20201221T151127Z
LAST-MODIFIED:20201221T153004Z
UID:2084-1641024000-1641056400@minesafety.wv.gov
SUMMARY:New Year's Day
DESCRIPTION:
URL:https://minesafety.wv.gov/employee-events/new-years-day/2022-01-01/
END:VEVENT
BEGIN:VEVENT
DTSTART;TZID=UTC:20220117T080000
DTEND;TZID=UTC:20220117T170000
DTSTAMP:20210809T133953
CREATED:20201221T151215Z
LAST-MODIFIED:20201221T151215Z
UID:2085-1642406400-1642438800@minesafety.wv.gov
SUMMARY:Martin Luther King Day
DESCRIPTION:
URL:https://minesafety.wv.gov/employee-events/martin-luther-king-day/2022-01-17/
END:VEVENT
BEGIN:VEVENT
DTSTART;TZID=UTC:20220221T080000
DTEND;TZID=UTC:20220221T170000
DTSTAMP:20210809T133953
CREATED:20201221T151341Z
LAST-MODIFIED:20201221T151341Z
UID:2086-1645430400-1645462800@minesafety.wv.gov
SUMMARY:President's Day
DESCRIPTION:
URL:https://minesafety.wv.gov/employee-events/presidents-day/2022-02-21/
END:VEVENT
BEGIN:VEVENT
DTSTART;TZID=UTC:20220530T080000
DTEND;TZID=UTC:20220530T170000
DTSTAMP:20210809T133953
CREATED:20201221T151414Z
LAST-MODIFIED:20201221T151414Z
UID:2087-1653897600-1653930000@minesafety.wv.gov
SUMMARY:Memorial Day
DESCRIPTION:
URL:https://minesafety.wv.gov/employee-events/memorial-day/2022-05-30/
END:VEVENT
BEGIN:VEVENT
DTSTART;TZID=UTC:20220620T080000
DTEND;TZID=UTC:20220620T170000
DTSTAMP:20210809T133953
CREATED:20201221T151453Z
LAST-MODIFIED:20201221T151453Z
UID:2088-1655712000-1655744400@minesafety.wv.gov
SUMMARY:West Virginia Day (observed)
DESCRIPTION:
URL:https://minesafety.wv.gov/employee-events/west-virginia-day-observed/2022-06-20/
END:VEVENT
BEGIN:VEVENT
DTSTART;TZID=UTC:20220704T080000
DTEND;TZID=UTC:20220704T170000
DTSTAMP:20210809T133953
CREATED:20201221T152128Z
LAST-MODIFIED:20201221T152128Z
UID:2089-1656921600-1656954000@minesafety.wv.gov
SUMMARY:Independence Day (Observed)
DESCRIPTION:
URL:https://minesafety.wv.gov/employee-events/independence-day-observed/2022-07-04/
END:VEVENT
BEGIN:VEVENT
DTSTART;TZID=UTC:20220905T080000
DTEND;TZID=UTC:20220905T170000
DTSTAMP:20210809T133953
CREATED:20201221T153048Z
LAST-MODIFIED:20201221T153048Z
UID:2091-1662364800-1662397200@minesafety.wv.gov
SUMMARY:Labor Day
DESCRIPTION:
URL:https://minesafety.wv.gov/employee-events/labor-day/2022-09-05/
END:VEVENT
BEGIN:VEVENT
DTSTART;TZID=UTC:20221010T080000
DTEND;TZID=UTC:20221010T170000
DTSTAMP:20210809T133953
CREATED:20201221T153154Z
LAST-MODIFIED:20201221T153154Z
UID:2093-1665388800-1665421200@minesafety.wv.gov
SUMMARY:Columbus Day
DESCRIPTION:
URL:https://minesafety.wv.gov/employee-events/columbus-day/2022-10-10/
END:VEVENT
BEGIN:VEVENT
DTSTART;TZID=UTC:20221111T080000
DTEND;TZID=UTC:20221111T170000
DTSTAMP:20210809T133953
CREATED:20201221T153246Z
LAST-MODIFIED:20201221T153246Z
UID:2095-1668153600-1668186000@minesafety.wv.gov
SUMMARY:Veteran's Day
DESCRIPTION:
URL:https://minesafety.wv.gov/employee-events/veterans-day/2022-11-11/
END:VEVENT
BEGIN:VEVENT
DTSTART;TZID=UTC:20221124T080000
DTEND;TZID=UTC:20221124T170000
DTSTAMP:20210809T133953
CREATED:20201221T153334Z
LAST-MODIFIED:20201221T153334Z
UID:2097-1669276800-1669309200@minesafety.wv.gov
SUMMARY:Thanksgiving
DESCRIPTION:
URL:https://minesafety.wv.gov/employee-events/thanksgiving/2022-11-24/
END:VEVENT
BEGIN:VEVENT
DTSTART;TZID=UTC:20221224T080000
DTEND;TZID=UTC:20221224T170000
DTSTAMP:20210809T133953
CREATED:20201221T153429Z
LAST-MODIFIED:20201221T153429Z
UID:2220-1671868800-1671901200@minesafety.wv.gov
SUMMARY:Christmas Eve
DESCRIPTION:
URL:https://minesafety.wv.gov/employee-events/christmas-eve/2022-12-24/
END:VEVENT
BEGIN:VEVENT
DTSTART;TZID=UTC:20221225T080000
DTEND;TZID=UTC:20221225T170000
DTSTAMP:20210809T133953
CREATED:20201221T153530Z
LAST-MODIFIED:20201221T153530Z
UID:2221-1671955200-1671987600@minesafety.wv.gov
SUMMARY:Christmas Day
DESCRIPTION:
URL:https://minesafety.wv.gov/employee-events/christmas-day/2022-12-25/
END:VEVENT
BEGIN:VEVENT
DTSTART;TZID=UTC:20230101T080000
DTEND;TZID=UTC:20230101T170000
DTSTAMP:20210809T133953
CREATED:20201221T151127Z
LAST-MODIFIED:20201221T151127Z
UID:2228-1672560000-1672592400@minesafety.wv.gov
SUMMARY:New Year's Day
DESCRIPTION:
URL:https://minesafety.wv.gov/employee-events/new-years-day/2023-01-01/
END:VEVENT
BEGIN:VEVENT
DTSTART;TZID=UTC:20230116T080000
DTEND;TZID=UTC:20230116T170000
DTSTAMP:20210809T133953
CREATED:20201221T151215Z
LAST-MODIFIED:20201221T151215Z
UID:2353-1673856000-1673888400@minesafety.wv.gov
SUMMARY:Martin Luther King Day
DESCRIPTION:
URL:https://minesafety.wv.gov/employee-events/martin-luther-king-day/2023-01-16/
END:VEVENT
BEGIN:VEVENT
DTSTART;TZID=UTC:20230220T080000
DTEND;TZID=UTC:20230220T170000
DTSTAMP:20210809T133953
CREATED:20201221T151341Z
LAST-MODIFIED:20201221T151341Z
UID:2755-1676880000-1676912400@minesafety.wv.gov
SUMMARY:President's Day
DESCRIPTION:
URL:https://minesafety.wv.gov/employee-events/presidents-day/2023-02-20/
END:VEVENT
BEGIN:VEVENT
DTSTART;TZID=UTC:20230529T080000
DTEND;TZID=UTC:20230529T170000
DTSTAMP:20210809T133953
CREATED:20201221T151414Z
LAST-MODIFIED:20201221T151414Z
UID:3059-1685347200-1685379600@minesafety.wv.gov
SUMMARY:Memorial Day
DESCRIPTION:
URL:https://minesafety.wv.gov/employee-events/memorial-day/2023-05-29/
END:VEVENT
BEGIN:VEVENT
DTSTART;TZID=UTC:20230619T080000
DTEND;TZID=UTC:20230619T170000
DTSTAMP:20210809T133953
CREATED:20201221T151453Z
LAST-MODIFIED:20201221T151453Z
UID:3078-1687161600-1687194000@minesafety.wv.gov
SUMMARY:West Virginia Day (observed)
DESCRIPTION:
URL:https://minesafety.wv.gov/employee-events/west-virginia-day-observed/2023-06-19/
END:VEVENT
BEGIN:VEVENT
DTSTART;TZID=UTC:20230703T080000
DTEND;TZID=UTC:20230703T170000
DTSTAMP:20210809T133953
CREATED:20201221T152128Z
LAST-MODIFIED:20201221T152128Z
UID:3128-1688371200-1688403600@minesafety.wv.gov
SUMMARY:Independence Day (Observed)
DESCRIPTION:
URL:https://minesafety.wv.gov/employee-events/independence-day-observed/2023-07-03/
END:VEVENT
END:VCALENDAR