BEGIN:VCALENDAR
VERSION:2.0
PRODID:-//WV Office of Miners&#039; Health Safety and Training - ECPv6.15.17.1//NONSGML v1.0//EN
CALSCALE:GREGORIAN
METHOD:PUBLISH
X-WR-CALNAME:WV Office of Miners&#039; Health Safety and Training
X-ORIGINAL-URL:https://minesafety.wv.gov
X-WR-CALDESC:Events for WV Office of Miners&#039; Health Safety and Training
REFRESH-INTERVAL;VALUE=DURATION:PT1H
X-Robots-Tag:noindex
X-PUBLISHED-TTL:PT1H
BEGIN:VTIMEZONE
TZID:UTC
BEGIN:STANDARD
TZOFFSETFROM:+0000
TZOFFSETTO:+0000
TZNAME:UTC
DTSTART:20200101T000000
END:STANDARD
END:VTIMEZONE
BEGIN:VEVENT
DTSTART;TZID=UTC:20210507T080000
DTEND;TZID=UTC:20210507T170000
DTSTAMP:20260420T213708
CREATED:20201221T153916Z
LAST-MODIFIED:20201221T153919Z
UID:10000517-1620374400-1620406800@minesafety.wv.gov
SUMMARY:Pay Day
DESCRIPTION:
URL:https://minesafety.wv.gov/employee-events/pay-day/2021-05-07/
END:VEVENT
BEGIN:VEVENT
DTSTART;TZID=UTC:20210521T080000
DTEND;TZID=UTC:20210521T170000
DTSTAMP:20260420T213708
CREATED:20201221T153916Z
LAST-MODIFIED:20201221T153919Z
UID:10000518-1621584000-1621616400@minesafety.wv.gov
SUMMARY:Pay Day
DESCRIPTION:
URL:https://minesafety.wv.gov/employee-events/pay-day/2021-05-21/
END:VEVENT
BEGIN:VEVENT
DTSTART;TZID=UTC:20210531T080000
DTEND;TZID=UTC:20210531T170000
DTSTAMP:20260420T213708
CREATED:20201221T151414Z
LAST-MODIFIED:20201221T152743Z
UID:10000568-1622448000-1622480400@minesafety.wv.gov
SUMMARY:Memorial Day
DESCRIPTION:
URL:https://minesafety.wv.gov/employee-events/memorial-day/2021-05-31/
END:VEVENT
END:VCALENDAR