BEGIN:VCALENDAR
VERSION:2.0
PRODID:-//WV Office of Miners&#039; Health Safety and Training - ECPv6.15.17.1//NONSGML v1.0//EN
CALSCALE:GREGORIAN
METHOD:PUBLISH
X-WR-CALNAME:WV Office of Miners&#039; Health Safety and Training
X-ORIGINAL-URL:https://minesafety.wv.gov
X-WR-CALDESC:Events for WV Office of Miners&#039; Health Safety and Training
REFRESH-INTERVAL;VALUE=DURATION:PT1H
X-Robots-Tag:noindex
X-PUBLISHED-TTL:PT1H
BEGIN:VTIMEZONE
TZID:UTC
BEGIN:STANDARD
TZOFFSETFROM:+0000
TZOFFSETTO:+0000
TZNAME:UTC
DTSTART:20240101T000000
END:STANDARD
END:VTIMEZONE
BEGIN:VEVENT
DTSTART;TZID=UTC:20250613T080000
DTEND;TZID=UTC:20250613T170000
DTSTAMP:20260424T141642
CREATED:20220119T150843Z
LAST-MODIFIED:20230710T174650Z
UID:10000392-1749801600-1749834000@minesafety.wv.gov
SUMMARY:PAY DAY
DESCRIPTION:
URL:https://minesafety.wv.gov/employee-events/pay-day-12/2025-06-13/
END:VEVENT
BEGIN:VEVENT
DTSTART;TZID=UTC:20250619T080000
DTEND;TZID=UTC:20250619T170000
DTSTAMP:20260424T141642
CREATED:20220119T152400Z
LAST-MODIFIED:20230710T173733Z
UID:10000323-1750320000-1750352400@minesafety.wv.gov
SUMMARY:Juneteenth (Observed)
DESCRIPTION:
URL:https://minesafety.wv.gov/employee-events/juneteenth-observed/2025-06-19/
END:VEVENT
BEGIN:VEVENT
DTSTART;TZID=UTC:20250620T080000
DTEND;TZID=UTC:20250620T170000
DTSTAMP:20260424T141642
CREATED:20201221T151453Z
LAST-MODIFIED:20230710T173938Z
UID:10000578-1750406400-1750438800@minesafety.wv.gov
SUMMARY:West Virginia Day
DESCRIPTION:
URL:https://minesafety.wv.gov/employee-events/west-virginia-day-observed/2025-06-20/
END:VEVENT
BEGIN:VEVENT
DTSTART;TZID=UTC:20250627T080000
DTEND;TZID=UTC:20250627T170000
DTSTAMP:20260424T141642
CREATED:20220119T150843Z
LAST-MODIFIED:20230710T174650Z
UID:10000393-1751011200-1751043600@minesafety.wv.gov
SUMMARY:PAY DAY
DESCRIPTION:
URL:https://minesafety.wv.gov/employee-events/pay-day-12/2025-06-27/
END:VEVENT
END:VCALENDAR