BEGIN:VCALENDAR
VERSION:2.0
PRODID:-//WV Office of Miners&#039; Health Safety and Training - ECPv6.15.17.1//NONSGML v1.0//EN
CALSCALE:GREGORIAN
METHOD:PUBLISH
X-ORIGINAL-URL:https://minesafety.wv.gov
X-WR-CALDESC:Events for WV Office of Miners&#039; Health Safety and Training
REFRESH-INTERVAL;VALUE=DURATION:PT1H
X-Robots-Tag:noindex
X-PUBLISHED-TTL:PT1H
BEGIN:VTIMEZONE
TZID:UTC
BEGIN:STANDARD
TZOFFSETFROM:+0000
TZOFFSETTO:+0000
TZNAME:UTC
DTSTART:20250101T000000
END:STANDARD
END:VTIMEZONE
BEGIN:VEVENT
DTSTART;TZID=UTC:20261111T080000
DTEND;TZID=UTC:20261111T170000
DTSTAMP:20260423T220713
CREATED:20201221T153246Z
LAST-MODIFIED:20201221T153246Z
UID:10000607-1794384000-1794416400@minesafety.wv.gov
SUMMARY:Veteran's Day
DESCRIPTION:
URL:https://minesafety.wv.gov/employee-events/veterans-day/2026-11-11/
END:VEVENT
BEGIN:VEVENT
DTSTART;TZID=UTC:20261113T080000
DTEND;TZID=UTC:20261113T170000
DTSTAMP:20260423T220713
CREATED:20220119T150843Z
LAST-MODIFIED:20230710T174650Z
UID:10000429-1794556800-1794589200@minesafety.wv.gov
SUMMARY:PAY DAY
DESCRIPTION:
URL:https://minesafety.wv.gov/employee-events/pay-day-12/2026-11-13/
END:VEVENT
BEGIN:VEVENT
DTSTART;TZID=UTC:20261126T080000
DTEND;TZID=UTC:20261126T170000
DTSTAMP:20260423T220713
CREATED:20201221T153334Z
LAST-MODIFIED:20220119T153245Z
UID:10000310-1795680000-1795712400@minesafety.wv.gov
SUMMARY:Thanksgiving
DESCRIPTION:
URL:https://minesafety.wv.gov/employee-events/thanksgiving/2026-11-26/
END:VEVENT
BEGIN:VEVENT
DTSTART;TZID=UTC:20261127T080000
DTEND;TZID=UTC:20261127T170000
DTSTAMP:20260423T220713
CREATED:20220119T150843Z
LAST-MODIFIED:20230710T174650Z
UID:10000430-1795766400-1795798800@minesafety.wv.gov
SUMMARY:PAY DAY
DESCRIPTION:
URL:https://minesafety.wv.gov/employee-events/pay-day-12/2026-11-27/
END:VEVENT
BEGIN:VEVENT
DTSTART;TZID=UTC:20261127T080000
DTEND;TZID=UTC:20261127T170000
DTSTAMP:20260423T220713
CREATED:20220119T153329Z
LAST-MODIFIED:20220119T153330Z
UID:10000318-1795766400-1795798800@minesafety.wv.gov
SUMMARY:Day After Thanksgiving
DESCRIPTION:
URL:https://minesafety.wv.gov/employee-events/day-after-thanksgiving/2026-11-27/
END:VEVENT
END:VCALENDAR